BEGIN:VCALENDAR
VERSION:2.0
PRODID:-//Cantorum Choir - ECPv5.14.1//NONSGML v1.0//EN
CALSCALE:GREGORIAN
METHOD:PUBLISH
X-WR-CALNAME:Cantorum Choir
X-ORIGINAL-URL:https://www.cantorumchoir.org.uk
X-WR-CALDESC:Events for Cantorum Choir
REFRESH-INTERVAL;VALUE=DURATION:PT1H
X-Robots-Tag:noindex
X-PUBLISHED-TTL:PT1H
BEGIN:VTIMEZONE
TZID:Europe/London
BEGIN:DAYLIGHT
TZOFFSETFROM:+0000
TZOFFSETTO:+0100
TZNAME:BST
DTSTART:20210328T010000
END:DAYLIGHT
BEGIN:STANDARD
TZOFFSETFROM:+0100
TZOFFSETTO:+0000
TZNAME:GMT
DTSTART:20211031T010000
END:STANDARD
END:VTIMEZONE
BEGIN:VEVENT
DTSTART;VALUE=DATE:20210814
DTEND;VALUE=DATE:20210817
DTSTAMP:20260420T090311
CREATED:20210702T120316Z
LAST-MODIFIED:20210702T120316Z
UID:1549-1628902800-1629075599@www.cantorumchoir.org.uk
SUMMARY:Worcester Cathedral Weekend
DESCRIPTION:
URL:https://www.cantorumchoir.org.uk/calendar/worcester-cathedral-weekend/
LOCATION:Worcester Cathedral\, Worcester\, Worcestershire\, WR1 2RA\, United Kingdom
END:VEVENT
END:VCALENDAR